BEGIN:VCALENDAR
PRODID:-//eluceo/ical//2.0/EN
VERSION:2.0
CALSCALE:GREGORIAN
BEGIN:VEVENT
UID:695cec31f8b53a97ab09329c9b1f73d7
DTSTAMP:20260424T161145Z
SUMMARY:Informal Stamm @ Wohnzimmerbar
DESCRIPTION:
URL:https://rotaract-zuerich.ch/sv/agenda/show/206232
DTSTART;TZID=Europe/Zurich:20251216T190000
DTEND;TZID=Europe/Zurich:20251216T190000
LOCATION:Kalkbreitestrasse 10\, 8003 Zürich
CATEGORIES:Rotaract
END:VEVENT
BEGIN:VTIMEZONE
TZID:Europe/Zurich
BEGIN:STANDARD
DTSTART:20251216T190000
TZNAME:CET
TZOFFSETTO:+0100
TZOFFSETFROM:+0100
END:STANDARD
END:VTIMEZONE
END:VCALENDAR
