BEGIN:VCALENDAR
PRODID:-//eluceo/ical//2.0/EN
VERSION:2.0
CALSCALE:GREGORIAN
BEGIN:VEVENT
UID:f2ba5d6b0ff55cf6e69a769dc8ab6a55
DTSTAMP:20260424T160048Z
SUMMARY:Vorstellung Verein AsyLex und Selbstpräsentationen
DESCRIPTION:Webbplats: https://www.haus-zum-rueden.ch\nTalare: 
URL:https://rotaract-zuerich.ch/sv/agenda/show/200573
DTSTART;TZID=Europe/Zurich:20251014T190000
DTEND;TZID=Europe/Zurich:20251014T223000
LOCATION:Haus zum Rüden\, Limmatquai 42\, 8001 Zürich
CATEGORIES:Rotaract
END:VEVENT
BEGIN:VTIMEZONE
TZID:Europe/Zurich
BEGIN:DAYLIGHT
DTSTART:20251014T190000
TZNAME:CEST
TZOFFSETTO:+0200
TZOFFSETFROM:+0200
END:DAYLIGHT
END:VTIMEZONE
END:VCALENDAR
