BEGIN:VCALENDAR
PRODID:-//eluceo/ical//2.0/EN
VERSION:2.0
CALSCALE:GREGORIAN
BEGIN:VEVENT
UID:b60ff8605fb31287031de5f03ed9a978
DTSTAMP:20260422T090536Z
SUMMARY:Informal Stamm @ Bier Halle Wolf
DESCRIPTION:
URL:https://rotaract-zuerich.ch/sv/agenda/show/190923
DTSTART;TZID=Europe/Zurich:20250325T190000
DTEND;TZID=Europe/Zurich:20250325T190000
LOCATION:Limmatquai 132\, 8001 Zürich
CATEGORIES:Rotaract
END:VEVENT
BEGIN:VTIMEZONE
TZID:Europe/Zurich
BEGIN:STANDARD
DTSTART:20250325T190000
TZNAME:CET
TZOFFSETTO:+0100
TZOFFSETFROM:+0100
END:STANDARD
END:VTIMEZONE
END:VCALENDAR
