BEGIN:VCALENDAR
PRODID:-//eluceo/ical//2.0/EN
VERSION:2.0
CALSCALE:GREGORIAN
BEGIN:VEVENT
UID:c53e453c917495f03ebb4f44f128e537
DTSTAMP:20260422T090306Z
SUMMARY:Informal Stamm @ Kraftwerk
DESCRIPTION:
URL:https://rotaract-zuerich.ch/nl/agenda/show/212238
DTSTART;TZID=Europe/Zurich:20260512T183000
DTEND;TZID=Europe/Zurich:20260512T223000
LOCATION:Selnaustrasse 25​\, 8001 Zurich
CATEGORIES:Rotaract
END:VEVENT
BEGIN:VTIMEZONE
TZID:Europe/Zurich
BEGIN:DAYLIGHT
DTSTART:20260512T183000
TZNAME:CEST
TZOFFSETTO:+0200
TZOFFSETFROM:+0200
END:DAYLIGHT
END:VTIMEZONE
END:VCALENDAR
