BEGIN:VCALENDAR
PRODID:-//eluceo/ical//2.0/EN
VERSION:2.0
CALSCALE:GREGORIAN
BEGIN:VEVENT
UID:386c918becd5db1522593c75477db0fa
DTSTAMP:20260422T091425Z
SUMMARY:Informal Stamm @ Amboss Rampe
DESCRIPTION:
URL:https://rotaract-zuerich.ch/nl/agenda/show/212237
DTSTART;TZID=Europe/Zurich:20260428T190000
DTEND;TZID=Europe/Zurich:20260428T190000
LOCATION:Zollstrasse 80\, 8005 Zürich
CATEGORIES:Rotaract
END:VEVENT
BEGIN:VTIMEZONE
TZID:Europe/Zurich
BEGIN:DAYLIGHT
DTSTART:20260428T190000
TZNAME:CEST
TZOFFSETTO:+0200
TZOFFSETFROM:+0200
END:DAYLIGHT
END:VTIMEZONE
END:VCALENDAR
