BEGIN:VCALENDAR
PRODID:-//eluceo/ical//2.0/EN
VERSION:2.0
CALSCALE:GREGORIAN
BEGIN:VEVENT
UID:e68e7b82e032abd64aa747171bae1967
DTSTAMP:20260420T162032Z
SUMMARY:Saran Keita - Vorstellung Verein KIRA
DESCRIPTION:Website: https://www.restaurant-chiffon.ch\nSprekers: Saran Kei
 ta 
URL:https://rotaract-zuerich.ch/nl/agenda/show/206720
DTSTART;TZID=Europe/Zurich:20260310T190000
DTEND;TZID=Europe/Zurich:20260310T220000
LOCATION:Restaurant Chiffon\, Hirschengraben 36\, 8001 Zürich
CATEGORIES:Rotaract
END:VEVENT
BEGIN:VTIMEZONE
TZID:Europe/Zurich
BEGIN:STANDARD
DTSTART:20260310T190000
TZNAME:CET
TZOFFSETTO:+0100
TZOFFSETFROM:+0100
END:STANDARD
END:VTIMEZONE
END:VCALENDAR
