BEGIN:VCALENDAR
PRODID:-//eluceo/ical//2.0/EN
VERSION:2.0
CALSCALE:GREGORIAN
BEGIN:VEVENT
UID:6c696db1b91192a67e218a14c91349c5
DTSTAMP:20260425T123044Z
SUMMARY:Informal Stamm @ Cabaret Voltaire
DESCRIPTION:
URL:https://rotaract-zuerich.ch/nl/agenda/show/201787
DTSTART;TZID=Europe/Zurich:20251007T190000
DTEND;TZID=Europe/Zurich:20251007T190000
LOCATION:Spiegelgasse 1 8001 Zürich
CATEGORIES:Rotaract
END:VEVENT
BEGIN:VTIMEZONE
TZID:Europe/Zurich
BEGIN:DAYLIGHT
DTSTART:20251007T190000
TZNAME:CEST
TZOFFSETTO:+0200
TZOFFSETFROM:+0200
END:DAYLIGHT
END:VTIMEZONE
END:VCALENDAR
