BEGIN:VCALENDAR
PRODID:-//eluceo/ical//2.0/EN
VERSION:2.0
CALSCALE:GREGORIAN
BEGIN:VEVENT
UID:06ead023e2924b5a7772d693e63a43d4
DTSTAMP:20260425T122716Z
SUMMARY:Oktoberfest Bauschänzli
DESCRIPTION:Website: https://zuercher-oktoberfest.com/\nSprekers: 
URL:https://rotaract-zuerich.ch/nl/agenda/show/200503
DTSTART;TZID=Europe/Zurich:20251107T173000
DTEND;TZID=Europe/Zurich:20251107T220000
LOCATION:Bauschänzli Zürich\, Stadthausquai 2\, 8001 Zürich
CATEGORIES:Rotaract
END:VEVENT
BEGIN:VTIMEZONE
TZID:Europe/Zurich
BEGIN:STANDARD
DTSTART:20251107T173000
TZNAME:CET
TZOFFSETTO:+0100
TZOFFSETFROM:+0100
END:STANDARD
END:VTIMEZONE
END:VCALENDAR
