BEGIN:VCALENDAR
PRODID:-//eluceo/ical//2.0/EN
VERSION:2.0
CALSCALE:GREGORIAN
BEGIN:VEVENT
UID:ee2832be211571b1f50efd656af1f074
DTSTAMP:20260422T130730Z
SUMMARY:Karaoke @Miss Miu
DESCRIPTION:Website: https://www.miss-miu.ch\nSprekers: 
URL:https://rotaract-zuerich.ch/nl/agenda/show/185267
DTSTART;TZID=Europe/Zurich:20241108T181500
DTEND;TZID=Europe/Zurich:20241108T211500
LOCATION:Miss Miu Badenerstrasse\,97 8004 Zürich
CATEGORIES:Rotaract
END:VEVENT
BEGIN:VTIMEZONE
TZID:Europe/Zurich
BEGIN:STANDARD
DTSTART:20241108T181500
TZNAME:CET
TZOFFSETTO:+0100
TZOFFSETFROM:+0100
END:STANDARD
END:VTIMEZONE
END:VCALENDAR
