BEGIN:VCALENDAR
PRODID:-//eluceo/ical//2.0/EN
VERSION:2.0
CALSCALE:GREGORIAN
BEGIN:VEVENT
UID:f3211a49b5c1736c66405e94f8bd172f
DTSTAMP:20260422T193914Z
SUMMARY:Informal Stamm @Rimini Bar
DESCRIPTION:Website: http://www.rimini.ch/
URL:https://rotaract-zuerich.ch/nl/agenda/show/184551
DTSTART;TZID=Europe/Zurich:20240910T190000
DTEND;TZID=Europe/Zurich:20240910T223000
LOCATION:Rimini Bar - Badweg 10 - 8001 Zürich
CATEGORIES:Rotaract
END:VEVENT
BEGIN:VTIMEZONE
TZID:Europe/Zurich
BEGIN:DAYLIGHT
DTSTART:20240910T190000
TZNAME:CEST
TZOFFSETTO:+0200
TZOFFSETFROM:+0200
END:DAYLIGHT
END:VTIMEZONE
END:VCALENDAR
