BEGIN:VCALENDAR
PRODID:-//eluceo/ical//2.0/EN
VERSION:2.0
CALSCALE:GREGORIAN
BEGIN:VEVENT
UID:245b638848c40b946023ef3897bc3437
DTSTAMP:20260422T194421Z
SUMMARY:RC Sommerprogramm - Besichtigung Briefverteilzentrum Zürich-Mülli
 gen (Rotary eClub 2000)
DESCRIPTION:Website: https://www.post.ch/-/media/portal-opp/pm/dokumente/br
 iefzentrum-anfahrt-zuerich-muelligen.pdf?sc_lang=de&hash=565186E55B5CBA242
 64D903F3B88195F
URL:https://rotaract-zuerich.ch/nl/agenda/show/178905
DTSTART;TZID=Europe/Zurich:20240805T180000
DTEND;TZID=Europe/Zurich:20240805T203000
LOCATION:Empfangshalle Briefverteilzentrum - Zürcherstrasse 161 - 8010 Zü
 rich-Mülligen.
CATEGORIES:Rotaract
END:VEVENT
BEGIN:VTIMEZONE
TZID:Europe/Zurich
BEGIN:DAYLIGHT
DTSTART:20240805T180000
TZNAME:CEST
TZOFFSETTO:+0200
TZOFFSETFROM:+0200
END:DAYLIGHT
END:VTIMEZONE
END:VCALENDAR
