BEGIN:VCALENDAR
PRODID:-//eluceo/ical//2.0/EN
VERSION:2.0
CALSCALE:GREGORIAN
BEGIN:VEVENT
UID:e074e6fc28f6b527de578815abcf6c6b
DTSTAMP:20260422T171517Z
SUMMARY:Dancing Course @Sporthalle Aemtler C
DESCRIPTION:Website: https://www.ssd-sporthallen.stadt-zuerich.ch/details.p
 hp?einrichtung=70\nSprekers: Carina Ragg
URL:https://rotaract-zuerich.ch/nl/agenda/show/176372
DTSTART;TZID=Europe/Zurich:20240507T190000
DTEND;TZID=Europe/Zurich:20240507T223000
LOCATION:Sporthalle Aemtler C - Aemtlerstrasse 101\, 8003 Zürich
CATEGORIES:Rotaract
END:VEVENT
BEGIN:VTIMEZONE
TZID:Europe/Zurich
BEGIN:DAYLIGHT
DTSTART:20240507T190000
TZNAME:CEST
TZOFFSETTO:+0200
TZOFFSETFROM:+0200
END:DAYLIGHT
END:VTIMEZONE
END:VCALENDAR
