BEGIN:VCALENDAR
PRODID:-//eluceo/ical//2.0/EN
VERSION:2.0
CALSCALE:GREGORIAN
BEGIN:VEVENT
UID:ca596e99db7f02fe394ec5696330738d
DTSTAMP:20260422T171326Z
SUMMARY:Informal Stamm @Baryton
DESCRIPTION:Website: https://barytonzurich.business.site/
URL:https://rotaract-zuerich.ch/nl/agenda/show/176312
DTSTART;TZID=Europe/Zurich:20240521T190000
DTEND;TZID=Europe/Zurich:20240521T223000
LOCATION:Schweizergasse 8 - 8001 Zürich
CATEGORIES:Rotaract
END:VEVENT
BEGIN:VTIMEZONE
TZID:Europe/Zurich
BEGIN:DAYLIGHT
DTSTART:20240521T190000
TZNAME:CEST
TZOFFSETTO:+0200
TZOFFSETFROM:+0200
END:DAYLIGHT
END:VTIMEZONE
END:VCALENDAR
