BEGIN:VCALENDAR
PRODID:-//eluceo/ical//2.0/EN
VERSION:2.0
CALSCALE:GREGORIAN
BEGIN:VEVENT
UID:e563c777743896add8eb35f7b0589966
DTSTAMP:20260422T170644Z
SUMMARY:Rotaract @ home
DESCRIPTION:
URL:https://rotaract-zuerich.ch/nl/agenda/show/176311
DTSTART;TZID=Europe/Zurich:20240618T190000
DTEND;TZID=Europe/Zurich:20240618T223000
LOCATION:Meisenweg 11 8038 Zürich
CATEGORIES:Rotaract
END:VEVENT
BEGIN:VTIMEZONE
TZID:Europe/Zurich
BEGIN:DAYLIGHT
DTSTART:20240618T190000
TZNAME:CEST
TZOFFSETTO:+0200
TZOFFSETFROM:+0200
END:DAYLIGHT
END:VTIMEZONE
END:VCALENDAR
