BEGIN:VCALENDAR
PRODID:-//eluceo/ical//2.0/EN
VERSION:2.0
CALSCALE:GREGORIAN
BEGIN:VEVENT
UID:1339386f1be8cc6fa3fa7fd95c7a6d7e
DTSTAMP:20260422T170959Z
SUMMARY:Art Tour - Julius Baer
DESCRIPTION:Website: https://www.juliusbaer.com/de/ueber-uns/unsere-standor
 te/zuerich/\nSprekers: Gieri Giger
URL:https://rotaract-zuerich.ch/nl/agenda/show/173450
DTSTART;TZID=Europe/Zurich:20240514T190000
DTEND;TZID=Europe/Zurich:20240514T223000
LOCATION:Bank Julius Baer & Co. Ltd. - Bahnhofstrasse 36 - 8010 Zurich
CATEGORIES:Rotaract
END:VEVENT
BEGIN:VTIMEZONE
TZID:Europe/Zurich
BEGIN:DAYLIGHT
DTSTART:20240514T190000
TZNAME:CEST
TZOFFSETTO:+0200
TZOFFSETFROM:+0200
END:DAYLIGHT
END:VTIMEZONE
END:VCALENDAR
