BEGIN:VCALENDAR
PRODID:-//eluceo/ical//2.0/EN
VERSION:2.0
CALSCALE:GREGORIAN
BEGIN:VEVENT
UID:fb9fe30bc033fdc17c93b77eef191bb0
DTSTAMP:20260422T205255Z
SUMMARY:Informal Stamm @Bauschänzli
DESCRIPTION:Website: https://bauschaenzli.com/
URL:https://rotaract-zuerich.ch/nl/agenda/show/166980
DTSTART;TZID=Europe/Zurich:20230912T190000
DTEND;TZID=Europe/Zurich:20230912T230000
LOCATION:Bauschänzli
CATEGORIES:Rotaract
END:VEVENT
BEGIN:VTIMEZONE
TZID:Europe/Zurich
BEGIN:DAYLIGHT
DTSTART:20230912T190000
TZNAME:CEST
TZOFFSETTO:+0200
TZOFFSETFROM:+0200
END:DAYLIGHT
END:VTIMEZONE
END:VCALENDAR
