BEGIN:VCALENDAR
PRODID:-//eluceo/ical//2.0/EN
VERSION:2.0
CALSCALE:GREGORIAN
BEGIN:VEVENT
UID:68b83f35f82403ec5b2c7d9c7b9e492f
DTSTAMP:20260422T084656Z
SUMMARY:Prof. Dr. Roland Siegwart - Robotik
DESCRIPTION:Sito web: https://www.haus-zum-rueden.ch\nRelatore/i: Prof.\nDr
 . Roland Siegwart    
URL:https://rotaract-zuerich.ch/it/agenda/show/200512
DTSTART;TZID=Europe/Zurich:20250916T190000
DTEND;TZID=Europe/Zurich:20250916T223000
LOCATION:Haus zum Rüden\, Limmatquai 42\, 8001 Zürich
CATEGORIES:Rotaract
END:VEVENT
BEGIN:VTIMEZONE
TZID:Europe/Zurich
BEGIN:DAYLIGHT
DTSTART:20250916T190000
TZNAME:CEST
TZOFFSETTO:+0200
TZOFFSETFROM:+0200
END:DAYLIGHT
END:VTIMEZONE
END:VCALENDAR
