BEGIN:VCALENDAR
PRODID:-//eluceo/ical//2.0/EN
VERSION:2.0
CALSCALE:GREGORIAN
BEGIN:VEVENT
UID:0ea7033b68746e38c7c856a2150b2f69
DTSTAMP:20260422T185929Z
SUMMARY:Saxophonist Nikola Bankov
DESCRIPTION:Sito web: https://www.haus-zum-rueden.ch\nRelatore/i: Saxophoni
 st\n\nNikola Bankov
URL:https://rotaract-zuerich.ch/it/agenda/show/191439
DTSTART;TZID=Europe/Zurich:20250401T190000
DTEND;TZID=Europe/Zurich:20250401T213000
LOCATION:Haus zum Rüden\, Limmatquai 42\, 8001 Zürich
CATEGORIES:Rotaract
END:VEVENT
BEGIN:VTIMEZONE
TZID:Europe/Zurich
BEGIN:DAYLIGHT
DTSTART:20250401T190000
TZNAME:CEST
TZOFFSETTO:+0200
TZOFFSETFROM:+0200
END:DAYLIGHT
END:VTIMEZONE
END:VCALENDAR
