BEGIN:VCALENDAR
PRODID:-//eluceo/ical//2.0/EN
VERSION:2.0
CALSCALE:GREGORIAN
BEGIN:VEVENT
UID:83090a985391f53517b5e88ba7965cda
DTSTAMP:20260421T170028Z
SUMMARY:Erfahrungsbericht Tansania
DESCRIPTION:Sito web: https://www.haus-zum-rueden.ch\nRelatore/i: Elise Bet
 z
URL:https://rotaract-zuerich.ch/it/agenda/show/167652
DTSTART;TZID=Europe/Zurich:20231212T190000
DTEND;TZID=Europe/Zurich:20231212T223000
LOCATION:Haus zum Rüden\, Limmatquai 42\, 8001 Zürich
CATEGORIES:Rotaract
END:VEVENT
BEGIN:VTIMEZONE
TZID:Europe/Zurich
BEGIN:STANDARD
DTSTART:20231212T190000
TZNAME:CET
TZOFFSETTO:+0100
TZOFFSETFROM:+0100
END:STANDARD
END:VTIMEZONE
END:VCALENDAR
