BEGIN:VCALENDAR
PRODID:-//eluceo/ical//2.0/EN
VERSION:2.0
CALSCALE:GREGORIAN
BEGIN:VEVENT
UID:a28624f24cfbd02fe665f340e76435f0
DTSTAMP:20260419T142357Z
SUMMARY:Vortrag über den Wagerenhof
DESCRIPTION:Vefsíða: https://www.haus-zum-rueden.ch\nFyrirlesari(ar): Luk
  De Crom
URL:https://rotaract-zuerich.ch/is/agenda/show/196061
DTSTART;TZID=Europe/Zurich:20250527T190000
DTEND;TZID=Europe/Zurich:20250527T223000
LOCATION:Haus zum Rüden\, Limmatquai 42\, 8001 Zürich
CATEGORIES:Rotaract
END:VEVENT
BEGIN:VTIMEZONE
TZID:Europe/Zurich
BEGIN:DAYLIGHT
DTSTART:20250527T190000
TZNAME:CEST
TZOFFSETTO:+0200
TZOFFSETFROM:+0200
END:DAYLIGHT
END:VTIMEZONE
END:VCALENDAR
