BEGIN:VCALENDAR
PRODID:-//eluceo/ical//2.0/EN
VERSION:2.0
CALSCALE:GREGORIAN
BEGIN:VEVENT
UID:c8cbe3e0a775784cf65d4613e5539a33
DTSTAMP:20260419T143038Z
SUMMARY:Generalversammlung
DESCRIPTION:Vefsíða: https://www.haus-zum-rueden.ch
URL:https://rotaract-zuerich.ch/is/agenda/show/194111
DTSTART;TZID=Europe/Zurich:20250624T190000
DTEND;TZID=Europe/Zurich:20250624T223000
LOCATION:Haus zum Rüden\, Limmatquai 42\, 8001 Zürich
CATEGORIES:Rotaract
END:VEVENT
BEGIN:VTIMEZONE
TZID:Europe/Zurich
BEGIN:DAYLIGHT
DTSTART:20250624T190000
TZNAME:CEST
TZOFFSETTO:+0200
TZOFFSETFROM:+0200
END:DAYLIGHT
END:VTIMEZONE
END:VCALENDAR
