BEGIN:VCALENDAR
PRODID:-//eluceo/ical//2.0/EN
VERSION:2.0
CALSCALE:GREGORIAN
BEGIN:VEVENT
UID:66ab448c55c3c0fdc1de297a80b9471e
DTSTAMP:20260419T142044Z
SUMMARY:Informal Stamm @ Konrad Bar
DESCRIPTION:
URL:https://rotaract-zuerich.ch/is/agenda/show/190927
DTSTART;TZID=Europe/Zurich:20250520T190000
DTEND;TZID=Europe/Zurich:20250520T190000
LOCATION:Lintheschergasse 23\, 8001 Zürich
CATEGORIES:Rotaract
END:VEVENT
BEGIN:VTIMEZONE
TZID:Europe/Zurich
BEGIN:DAYLIGHT
DTSTART:20250520T190000
TZNAME:CEST
TZOFFSETTO:+0200
TZOFFSETFROM:+0200
END:DAYLIGHT
END:VTIMEZONE
END:VCALENDAR
