BEGIN:VCALENDAR
PRODID:-//eluceo/ical//2.0/EN
VERSION:2.0
CALSCALE:GREGORIAN
BEGIN:VEVENT
UID:fecd4b21d9d6b740f4cbf2f086b1f710
DTSTAMP:20260419T141934Z
SUMMARY:Informal Stamm\, RAC Partner Club Discussion (online)
DESCRIPTION:
URL:https://rotaract-zuerich.ch/is/agenda/show/190925
DTSTART;TZID=Europe/Zurich:20250422T190000
DTEND;TZID=Europe/Zurich:20250422T190000
LOCATION:online
CATEGORIES:Rotaract
END:VEVENT
BEGIN:VTIMEZONE
TZID:Europe/Zurich
BEGIN:DAYLIGHT
DTSTART:20250422T190000
TZNAME:CEST
TZOFFSETTO:+0200
TZOFFSETFROM:+0200
END:DAYLIGHT
END:VTIMEZONE
END:VCALENDAR
