BEGIN:VCALENDAR
PRODID:-//eluceo/ical//2.0/EN
VERSION:2.0
CALSCALE:GREGORIAN
BEGIN:VEVENT
UID:527814849f9b4008283efe27353dc29d
DTSTAMP:20260421T214701Z
SUMMARY:Einladung zum Rotary Benefizball
DESCRIPTION:Vefsíða: https://www.zunfthausschmiden.ch/de/
URL:https://rotaract-zuerich.ch/is/agenda/show/186997
DTSTART;TZID=Europe/Zurich:20241123T183000
DTEND;TZID=Europe/Zurich:20241124T020000
LOCATION:Zunfthaus zur Schmiden - Marktgasse 20 - 8001 Zürich
CATEGORIES:Rotaract
END:VEVENT
BEGIN:VTIMEZONE
TZID:Europe/Zurich
BEGIN:STANDARD
DTSTART:20241123T183000
TZNAME:CET
TZOFFSETTO:+0100
TZOFFSETFROM:+0100
END:STANDARD
END:VTIMEZONE
END:VCALENDAR
