BEGIN:VCALENDAR
PRODID:-//eluceo/ical//2.0/EN
VERSION:2.0
CALSCALE:GREGORIAN
BEGIN:VEVENT
UID:15128543b517397ef01631854ba8f138
DTSTAMP:20260421T235849Z
SUMMARY:Informal Stamm @Gräbli Bar
DESCRIPTION:Vefsíða: https://graebli-bar.ch/
URL:https://rotaract-zuerich.ch/is/agenda/show/169882
DTSTART;TZID=Europe/Zurich:20231121T190000
DTEND;TZID=Europe/Zurich:20231121T223000
LOCATION:Gräbli Bar\, Niederdorfstrasse 66\, 8001 Zürich
CATEGORIES:Rotaract
END:VEVENT
BEGIN:VTIMEZONE
TZID:Europe/Zurich
BEGIN:STANDARD
DTSTART:20231121T190000
TZNAME:CET
TZOFFSETTO:+0100
TZOFFSETFROM:+0100
END:STANDARD
END:VTIMEZONE
END:VCALENDAR
