BEGIN:VCALENDAR
PRODID:-//eluceo/ical//2.0/EN
VERSION:2.0
CALSCALE:GREGORIAN
BEGIN:VEVENT
UID:49d385ff5b6aca17dd10396caaba087e
DTSTAMP:20260421T221516Z
SUMMARY:Informal Stamm @Turbinenbräu
DESCRIPTION:Vefsíða: https://www.restaurant-turbinenbraeu.ch/restaurant-b
 ar
URL:https://rotaract-zuerich.ch/is/agenda/show/169361
DTSTART;TZID=Europe/Zurich:20231107T190000
DTEND;TZID=Europe/Zurich:20231107T223000
LOCATION:TURBINENBRÄU\, Restaurant & Bar\, Badenerstrasse 571\, CH-8048 Z
 ürich
CATEGORIES:Rotaract
END:VEVENT
BEGIN:VTIMEZONE
TZID:Europe/Zurich
BEGIN:STANDARD
DTSTART:20231107T190000
TZNAME:CET
TZOFFSETTO:+0100
TZOFFSETFROM:+0100
END:STANDARD
END:VTIMEZONE
END:VCALENDAR
