BEGIN:VCALENDAR
PRODID:-//eluceo/ical//2.0/EN
VERSION:2.0
CALSCALE:GREGORIAN
BEGIN:VEVENT
UID:eb8595e4e21296dd1941b85b192bb31e
DTSTAMP:20260421T181824Z
SUMMARY:Selbstpräsentation
DESCRIPTION:Vefsíða: https://www.haus-zum-rueden.ch
URL:https://rotaract-zuerich.ch/is/agenda/show/149467
DTSTART;TZID=Europe/Zurich:20221004T190000
DTEND;TZID=Europe/Zurich:20221004T220000
LOCATION:Haus zum Rüden\, Limmatquai 42\, 8001 Zürich
CATEGORIES:Rotaract
END:VEVENT
BEGIN:VTIMEZONE
TZID:Europe/Zurich
BEGIN:DAYLIGHT
DTSTART:20221004T190000
TZNAME:CEST
TZOFFSETTO:+0200
TZOFFSETFROM:+0200
END:DAYLIGHT
END:VTIMEZONE
END:VCALENDAR
