BEGIN:VCALENDAR
PRODID:-//eluceo/ical//2.0/EN
VERSION:2.0
CALSCALE:GREGORIAN
BEGIN:VEVENT
UID:152fc0c033141cfe898c99a088d1bb54
DTSTAMP:20260421T163743Z
SUMMARY:Guetzlibacken beim  Amalie Widmer Heim
DESCRIPTION:Datum:      Samstag\, 12. Dezember 2015\nZeit:      
     13:30 bis ca. 16:30 Uhr\nOrt:           Stiftung Amalie W
 idmer\, Amalie-Widmerstr. 11\, 8810 Horgen\nAnreise:   Vom HB mit der S8
  nach Horgen\, anschliessend mit dem\n                  B
 us 145 in Richtung Thalwil Zentrum bis Station Widmerheim.\n       
            Bei Anreise mit dem Auto bitte Fahrgemeinschaften bil
 den.\n                  Das Backen findet im Nebengebäud
 e (Räume der Tagesbegegnung) ggü vom Haupteingang statt.\nMitnehmen:  S
 chürze und Ausstechformen für die Kekse\n\nLiebe RotaracterInnen\, Inter
 essenten und Freunde\,\n\nDie Stiftung Amalie Widmer ist ein modernes Pfle
 gezentrum in Horgen mit 114 Betten. Es umfasst Dienstleistungen im Bereich
  Geriatrie\, d.h. der Altersheilkunde\, Überbrückungspflege\, Betreutes 
 Wohnen und Tagespflege. Mit professioneller Betreuung\nund Pflege soll den
  Bewohnern das Leben im letzten Lebensabschnitt möglichst angenehm gemach
 t werden. Dazu gehört neben der individuellen Pflege die Förderung der v
 orhandenen Fähigkeiten und die Alltagsgestaltung in Gruppen.\n \nIn dies
 em Zusammenhang organisiert der Rotaract Club Zürich erneut einen vorweih
 nachtlichen „Guetzlibachnamittag“. Beim Teig Ausrollen\, Ausstechen\, 
 Verzieren und Plaudern vergeht die Zeit wie im Fluge. Wir werden genügend
  „Guetzli bache“\, um allen 90 Bewohnern die Weihnachtszeit versüßen
  zu können.\nDie älteren Menschen freuen sich sehr auf unseren Besuch. E
 s werden etwa 10-15 Bewohnern an dem Anlass teilnehmen.\nDieses Jahr ist e
 s sehr wichtig\, dass Mitglieder und Interessenten welche im zweiten Halbj
 ahr noch kein Sozialprojekt absolviert haben sich anmelden und somit Vorra
 ng haben. Bitte nur deutschsprachige Helfer. Dieses Jahr ist auch die Anza
 hl der Anmeldungen auf 10 Helfer beschränkt und es wird gebeten die Handy
 s während des Anlasses auszustellen. \n\n 
URL:https://rotaract-zuerich.ch/is/agenda/show/120683
DTSTART;TZID=Europe/Zurich:20151212T133000
DTEND;TZID=Europe/Zurich:20151212T163000
LOCATION:Amalie Widmerstrasse 11\, 8810 Horgen
CATEGORIES:Rotaract
END:VEVENT
BEGIN:VTIMEZONE
TZID:Europe/Zurich
BEGIN:STANDARD
DTSTART:20151212T133000
TZNAME:CET
TZOFFSETTO:+0100
TZOFFSETFROM:+0100
END:STANDARD
END:VTIMEZONE
END:VCALENDAR
