BEGIN:VCALENDAR
PRODID:-//eluceo/ical//2.0/EN
VERSION:2.0
CALSCALE:GREGORIAN
BEGIN:VEVENT
UID:15144a667bf8663841f72d4320706275
DTSTAMP:20260424T101942Z
SUMMARY:Andrea Weber - Governor Distrikt 2000
DESCRIPTION:Site internet: https://www.haus-zum-rueden.ch\nConférencier(s)
 : Andrea Weber 
URL:https://rotaract-zuerich.ch/fr/agenda/show/206713
DTSTART;TZID=Europe/Zurich:20260127T190000
DTEND;TZID=Europe/Zurich:20260127T220000
LOCATION:Haus zum Rüden\, Limmatquai 42\, 8001 Zürich
CATEGORIES:Rotaract
END:VEVENT
BEGIN:VTIMEZONE
TZID:Europe/Zurich
BEGIN:STANDARD
DTSTART:20260127T190000
TZNAME:CET
TZOFFSETTO:+0100
TZOFFSETFROM:+0100
END:STANDARD
END:VTIMEZONE
END:VCALENDAR
