BEGIN:VCALENDAR
PRODID:-//eluceo/ical//2.0/EN
VERSION:2.0
CALSCALE:GREGORIAN
BEGIN:VEVENT
UID:0255d01fc3313f6c18b4a56f43c0e5c0
DTSTAMP:20260419T225103Z
SUMMARY:Informal Stamm @Norden Bar
DESCRIPTION:Site internet: https://www.norden-bar.ch/contact
URL:https://rotaract-zuerich.ch/fr/agenda/show/170765
DTSTART;TZID=Europe/Zurich:20231205T190000
DTEND;TZID=Europe/Zurich:20231205T223000
LOCATION:Norden Bar\, Ankerstrasse 123\, 8004 Zürich
CATEGORIES:Rotaract
END:VEVENT
BEGIN:VTIMEZONE
TZID:Europe/Zurich
BEGIN:STANDARD
DTSTART:20231205T190000
TZNAME:CET
TZOFFSETTO:+0100
TZOFFSETFROM:+0100
END:STANDARD
END:VTIMEZONE
END:VCALENDAR
