BEGIN:VCALENDAR
PRODID:-//eluceo/ical//2.0/EN
VERSION:2.0
CALSCALE:GREGORIAN
BEGIN:VEVENT
UID:40418e11adc9e113e5d6a3920684d03a
DTSTAMP:20260419T195507Z
SUMMARY:Informal Stamm @Fischer's Fritz
DESCRIPTION:Site internet: https://www.fischers-fritz.ch/
URL:https://rotaract-zuerich.ch/fr/agenda/show/167645
DTSTART;TZID=Europe/Zurich:20230926T190000
DTEND;TZID=Europe/Zurich:20230926T223000
LOCATION:Fischer's Fritz\, Seestrasse 559\, 8038 Zürich
CATEGORIES:Rotaract
END:VEVENT
BEGIN:VTIMEZONE
TZID:Europe/Zurich
BEGIN:DAYLIGHT
DTSTART:20230926T190000
TZNAME:CEST
TZOFFSETTO:+0200
TZOFFSETFROM:+0200
END:DAYLIGHT
END:VTIMEZONE
END:VCALENDAR
