BEGIN:VCALENDAR
PRODID:-//eluceo/ical//2.0/EN
VERSION:2.0
CALSCALE:GREGORIAN
BEGIN:VEVENT
UID:f4cab02d041dec05da2a3b44c869493d
DTSTAMP:20260424T163508Z
SUMMARY:GV
DESCRIPTION:Conférencier(s): Only for members
URL:https://rotaract-zuerich.ch/fr/agenda/show/120466
DTSTART;TZID=Europe/Zurich:20150113T184500
DTEND;TZID=Europe/Zurich:20150113T184500
LOCATION:Café Schober
CATEGORIES:Rotaract
END:VEVENT
BEGIN:VTIMEZONE
TZID:Europe/Zurich
BEGIN:STANDARD
DTSTART:20150113T184500
TZNAME:CET
TZOFFSETTO:+0100
TZOFFSETFROM:+0100
END:STANDARD
END:VTIMEZONE
END:VCALENDAR
