BEGIN:VCALENDAR
PRODID:-//eluceo/ical//2.0/EN
VERSION:2.0
CALSCALE:GREGORIAN
BEGIN:VEVENT
UID:d82b700a594fedd6892e4c41b69c99c7
DTSTAMP:20260425T120915Z
SUMMARY:Selbstpräsentationen und Plaudermeeting
DESCRIPTION:Sitio web: https://www.haus-zum-rueden.ch\nOrador(es): 
URL:https://rotaract-zuerich.ch/es/agenda/show/211726
DTSTART;TZID=Europe/Zurich:20260414T190000
DTEND;TZID=Europe/Zurich:20260414T230000
LOCATION:Haus zum Rüden\, Limmatquai 42\, 8001 Zürich
CATEGORIES:Rotaract
END:VEVENT
BEGIN:VTIMEZONE
TZID:Europe/Zurich
BEGIN:DAYLIGHT
DTSTART:20260414T190000
TZNAME:CEST
TZOFFSETTO:+0200
TZOFFSETFROM:+0200
END:DAYLIGHT
END:VTIMEZONE
END:VCALENDAR
