BEGIN:VCALENDAR
PRODID:-//eluceo/ical//2.0/EN
VERSION:2.0
CALSCALE:GREGORIAN
BEGIN:VEVENT
UID:e636cb6a7032b10c1d601b1f5bc80eb0
DTSTAMP:20260419T123538Z
SUMMARY:Planning Stamm
DESCRIPTION:Dear Rotaractors\, guests and friends\,\n\nThe coming Thuesday\
 , the 29th of November we will meet up for a special Stamm in Café Schobe
 r. Theme: Charter\, parties\, international event!\n\nLet us surprise you 
 :)\n \nYours in Rotaract\n\nPhilipp\n\n \n\nP.S. Sign up via Doodle\nSit
 io web: http://doodle.com/poll/i57b4wyxhq3dw2ew
URL:https://rotaract-zuerich.ch/es/agenda/show/121104
DTSTART;TZID=Europe/Zurich:20161129T190000
DTEND;TZID=Europe/Zurich:20161129T210000
LOCATION:Conditorei Schober
CATEGORIES:Rotaract
END:VEVENT
BEGIN:VTIMEZONE
TZID:Europe/Zurich
BEGIN:STANDARD
DTSTART:20161129T190000
TZNAME:CET
TZOFFSETTO:+0100
TZOFFSETFROM:+0100
END:STANDARD
END:VTIMEZONE
END:VCALENDAR
