BEGIN:VCALENDAR
PRODID:-//eluceo/ical//2.0/EN
VERSION:2.0
CALSCALE:GREGORIAN
BEGIN:VEVENT
UID:ef765b1baa72e1420de45628adfb916c
DTSTAMP:20260421T173426Z
SUMMARY:Social Project: Shared Smiles: An Afternoon with IWAZ
DESCRIPTION:Website: https://iwaz.ch/\nSpeaker(s): 
URL:https://rotaract-zuerich.ch/en/agenda/show/208387
DTSTART;TZID=Europe/Zurich:20260307T141500
DTEND;TZID=Europe/Zurich:20260307T164500
LOCATION:IWAZ Wetzikon\, Neugrundstrasse 4\, 8620 Wetzikon
CATEGORIES:Rotaract
END:VEVENT
BEGIN:VTIMEZONE
TZID:Europe/Zurich
BEGIN:STANDARD
DTSTART:20260307T141500
TZNAME:CET
TZOFFSETTO:+0100
TZOFFSETFROM:+0100
END:STANDARD
END:VTIMEZONE
END:VCALENDAR
