BEGIN:VCALENDAR
PRODID:-//eluceo/ical//2.0/EN
VERSION:2.0
CALSCALE:GREGORIAN
BEGIN:VEVENT
UID:ff0866a5b4ec5002dc033b2d51a666f4
DTSTAMP:20260421T193440Z
SUMMARY:RAC-Jahresstart mit Plaudermeeting
DESCRIPTION:Website: https://www.haus-zum-rueden.ch\nSpeaker(s): 
URL:https://rotaract-zuerich.ch/en/agenda/show/200511
DTSTART;TZID=Europe/Zurich:20250902T190000
DTEND;TZID=Europe/Zurich:20250902T223000
LOCATION:Haus zum Rüden\, Limmatquai 42\, 8001 Zürich
CATEGORIES:Rotaract
END:VEVENT
BEGIN:VTIMEZONE
TZID:Europe/Zurich
BEGIN:DAYLIGHT
DTSTART:20250902T190000
TZNAME:CEST
TZOFFSETTO:+0200
TZOFFSETFROM:+0200
END:DAYLIGHT
END:VTIMEZONE
END:VCALENDAR
