BEGIN:VCALENDAR
PRODID:-//eluceo/ical//2.0/EN
VERSION:2.0
CALSCALE:GREGORIAN
BEGIN:VEVENT
UID:b2a2086497e879cc182117297eb126df
DTSTAMP:20260421T192642Z
SUMMARY:Sommer Informal Stamm @ Hafen Enge Beiz
DESCRIPTION:
URL:https://rotaract-zuerich.ch/en/agenda/show/199556
DTSTART;TZID=Europe/Zurich:20250715T190000
DTEND;TZID=Europe/Zurich:20250715T210000
LOCATION:Mythenquai 21\, 8002 Zürich
CATEGORIES:Rotaract
END:VEVENT
BEGIN:VTIMEZONE
TZID:Europe/Zurich
BEGIN:DAYLIGHT
DTSTART:20250715T190000
TZNAME:CEST
TZOFFSETTO:+0200
TZOFFSETFROM:+0200
END:DAYLIGHT
END:VTIMEZONE
END:VCALENDAR
