BEGIN:VCALENDAR
PRODID:-//eluceo/ical//2.0/EN
VERSION:2.0
CALSCALE:GREGORIAN
BEGIN:VEVENT
UID:50bddd4709dcfc4a970bde8ec6c43293
DTSTAMP:20260425T114715Z
SUMMARY:Informal Stamm @Bar am Wasser
DESCRIPTION:Website: https://www.baramwasser.ch/
URL:https://rotaract-zuerich.ch/en/agenda/show/184553
DTSTART;TZID=Europe/Zurich:20241022T190000
DTEND;TZID=Europe/Zurich:20241022T223000
LOCATION:Bar am Wasser - Stadthausquai 1 - 8001 Zürich
CATEGORIES:Rotaract
END:VEVENT
BEGIN:VTIMEZONE
TZID:Europe/Zurich
BEGIN:DAYLIGHT
DTSTART:20241022T190000
TZNAME:CEST
TZOFFSETTO:+0200
TZOFFSETFROM:+0200
END:DAYLIGHT
END:VTIMEZONE
END:VCALENDAR
