BEGIN:VCALENDAR
PRODID:-//eluceo/ical//2.0/EN
VERSION:2.0
CALSCALE:GREGORIAN
BEGIN:VEVENT
UID:a2f39fce143943ece2b108b812eb5b7d
DTSTAMP:20260425T114513Z
SUMMARY:Zurich Airport Tour
DESCRIPTION:Speaker(s): Hermann Delliehausen
URL:https://rotaract-zuerich.ch/en/agenda/show/168576
DTSTART;TZID=Europe/Zurich:20231028T140000
DTEND;TZID=Europe/Zurich:20231028T193000
LOCATION:Zurich Airport\, Intermediate tract\, between Check-in 1 and 2 (St
 arbucks)
CATEGORIES:Rotaract
END:VEVENT
BEGIN:VTIMEZONE
TZID:Europe/Zurich
BEGIN:DAYLIGHT
DTSTART:20231028T140000
TZNAME:CEST
TZOFFSETTO:+0200
TZOFFSETFROM:+0200
END:DAYLIGHT
END:VTIMEZONE
END:VCALENDAR
