BEGIN:VCALENDAR
PRODID:-//eluceo/ical//2.0/EN
VERSION:2.0
CALSCALE:GREGORIAN
BEGIN:VEVENT
UID:6b624c8ee36e8a0ec7a9175be5938324
DTSTAMP:20260422T103342Z
SUMMARY:Rega guided tour
DESCRIPTION:Website: https://www.rega.ch/
URL:https://rotaract-zuerich.ch/en/agenda/show/167647
DTSTART;TZID=Europe/Zurich:20231014T120000
DTEND;TZID=Europe/Zurich:20231014T150000
LOCATION:Rega-Center main entrance (red entrance)\, Bimenzältenstrasse 87\
 , 8056 Zurich airport
CATEGORIES:Rotaract
END:VEVENT
BEGIN:VTIMEZONE
TZID:Europe/Zurich
BEGIN:DAYLIGHT
DTSTART:20231014T120000
TZNAME:CEST
TZOFFSETTO:+0200
TZOFFSETFROM:+0200
END:DAYLIGHT
END:VTIMEZONE
END:VCALENDAR
