BEGIN:VCALENDAR
PRODID:-//eluceo/ical//2.0/EN
VERSION:2.0
CALSCALE:GREGORIAN
BEGIN:VEVENT
UID:b035b409134d9259ea4ac93ceced766c
DTSTAMP:20260421T163926Z
SUMMARY:10th Official meeting 22.02.2022 (hybrid): Andreas Geiger from Toas
 tmasters International
DESCRIPTION:Website: https://www.haus-zum-rueden.ch
URL:https://rotaract-zuerich.ch/en/agenda/show/139236
DTSTART;TZID=Europe/Zurich:20220222T190000
DTEND;TZID=Europe/Zurich:20220222T220000
LOCATION:Haus zum Rüden\, Limmatquai 42\, 8001 Zürich
CATEGORIES:Rotaract
END:VEVENT
BEGIN:VTIMEZONE
TZID:Europe/Zurich
BEGIN:STANDARD
DTSTART:20220222T190000
TZNAME:CET
TZOFFSETTO:+0100
TZOFFSETFROM:+0100
END:STANDARD
END:VTIMEZONE
END:VCALENDAR
