BEGIN:VCALENDAR
PRODID:-//eluceo/ical//2.0/EN
VERSION:2.0
CALSCALE:GREGORIAN
BEGIN:VEVENT
UID:ff8e00091a87669aa295dbb4fdbe5881
DTSTAMP:20260423T225136Z
SUMMARY:RC Sommerprogramm - BBQ auf dem Loorenkopf (RC Zürich-Bellevue)
DESCRIPTION:
URL:https://rotaract-zuerich.ch/de/agenda/show/178906
DTSTART;TZID=Europe/Zurich:20240815T180000
DTEND;TZID=Europe/Zurich:20240815T180000
LOCATION:Parkplatz neben der Dolder Eisbahn
CATEGORIES:Rotaract
END:VEVENT
BEGIN:VTIMEZONE
TZID:Europe/Zurich
BEGIN:DAYLIGHT
DTSTART:20240815T180000
TZNAME:CEST
TZOFFSETTO:+0200
TZOFFSETFROM:+0200
END:DAYLIGHT
END:VTIMEZONE
END:VCALENDAR
