BEGIN:VCALENDAR
PRODID:-//eluceo/ical//2.0/EN
VERSION:2.0
CALSCALE:GREGORIAN
BEGIN:VEVENT
UID:9deb5b7e6af11e3b2c2ca3a53d1eecaa
DTSTAMP:20260423T192852Z
SUMMARY:RC Sommerprogramm - Jonathan McMillan\, Buchvorstellung “Kapitali
 smus und Marktwirtschaft» (RC Zürich City)
DESCRIPTION:Webseite: https://engimatt.ch/de/
URL:https://rotaract-zuerich.ch/de/agenda/show/178904
DTSTART;TZID=Europe/Zurich:20240725T180000
DTEND;TZID=Europe/Zurich:20240725T213000
LOCATION:Hotel Engimatt - Engimattstrasse 14 - 8002 Zürich (unweit Sihlcit
 y)
CATEGORIES:Rotaract
END:VEVENT
BEGIN:VTIMEZONE
TZID:Europe/Zurich
BEGIN:DAYLIGHT
DTSTART:20240725T180000
TZNAME:CEST
TZOFFSETTO:+0200
TZOFFSETFROM:+0200
END:DAYLIGHT
END:VTIMEZONE
END:VCALENDAR
