BEGIN:VCALENDAR
PRODID:-//eluceo/ical//2.0/EN
VERSION:2.0
CALSCALE:GREGORIAN
BEGIN:VEVENT
UID:ccf19b849e68576b86a1869b4d7313b2
DTSTAMP:20260423T175447Z
SUMMARY:RC Sommerprogramm - Barbecue am See (RC Zurich International)
DESCRIPTION:Webseite: https://gz-zh.ch/gz-wollishofen/
URL:https://rotaract-zuerich.ch/de/agenda/show/178903
DTSTART;TZID=Europe/Zurich:20240718T180000
DTEND;TZID=Europe/Zurich:20240718T220000
LOCATION:Gemeindezentrum Wollishofen - Bachstrasse 7 - 8038 Zurich
CATEGORIES:Rotaract
END:VEVENT
BEGIN:VTIMEZONE
TZID:Europe/Zurich
BEGIN:DAYLIGHT
DTSTART:20240718T180000
TZNAME:CEST
TZOFFSETTO:+0200
TZOFFSETFROM:+0200
END:DAYLIGHT
END:VTIMEZONE
END:VCALENDAR
