BEGIN:VCALENDAR
PRODID:-//eluceo/ical//2.0/EN
VERSION:2.0
CALSCALE:GREGORIAN
BEGIN:VEVENT
UID:2b4312fe62cdb821e9e59e5ceae1b659
DTSTAMP:20260423T162015Z
SUMMARY:GV
DESCRIPTION:
URL:https://rotaract-zuerich.ch/de/agenda/show/120568
DTSTART;TZID=Europe/Zurich:20150623T190000
DTEND;TZID=Europe/Zurich:20150623T190000
LOCATION:Cafè Schober\, Napfgasse 4\, 8001 Zürich
CATEGORIES:Rotaract
END:VEVENT
BEGIN:VTIMEZONE
TZID:Europe/Zurich
BEGIN:DAYLIGHT
DTSTART:20150623T190000
TZNAME:CEST
TZOFFSETTO:+0200
TZOFFSETFROM:+0200
END:DAYLIGHT
END:VTIMEZONE
END:VCALENDAR
