BEGIN:VCALENDAR
PRODID:-//eluceo/ical//2.0/EN
VERSION:2.0
CALSCALE:GREGORIAN
BEGIN:VEVENT
UID:f61e51bbb67fb3c0d89d543ef0de81f5
DTSTAMP:20260423T125742Z
SUMMARY:Besuch Tamedia
DESCRIPTION:
URL:https://rotaract-zuerich.ch/de/agenda/show/120467
DTSTART;TZID=Europe/Zurich:20150127T181500
DTEND;TZID=Europe/Zurich:20150127T181500
LOCATION:Werdstrasse 21\, Zürich
CATEGORIES:Rotaract
END:VEVENT
BEGIN:VTIMEZONE
TZID:Europe/Zurich
BEGIN:STANDARD
DTSTART:20150127T181500
TZNAME:CET
TZOFFSETTO:+0100
TZOFFSETFROM:+0100
END:STANDARD
END:VTIMEZONE
END:VCALENDAR
